BEGIN:VCALENDAR
VERSION:2.0
PRODID:-//Vita Yoga - ECPv6.15.20//NONSGML v1.0//EN
CALSCALE:GREGORIAN
METHOD:PUBLISH
X-WR-CALNAME:Vita Yoga
X-ORIGINAL-URL:https://vitayoga.fr
X-WR-CALDESC:Évènements pour Vita Yoga
REFRESH-INTERVAL;VALUE=DURATION:PT1H
X-Robots-Tag:noindex
X-PUBLISHED-TTL:PT1H
BEGIN:VTIMEZONE
TZID:UTC
BEGIN:STANDARD
TZOFFSETFROM:+0000
TZOFFSETTO:+0000
TZNAME:UTC
DTSTART:20230101T000000
END:STANDARD
END:VTIMEZONE
BEGIN:VEVENT
DTSTART;TZID=UTC:20240903T080000
DTEND;TZID=UTC:20240930T170000
DTSTAMP:20260421T214007
CREATED:20240903T081143Z
LAST-MODIFIED:20241002T085440Z
UID:2168-1725350400-1727715600@vitayoga.fr
SUMMARY:PROPOSITIONS DE OCTOBRE
DESCRIPTION:EN PARTICIPATION FINANCIERE LIBRE \nINSCRIPTIONS AU 06 32 70 85 71
URL:https://vitayoga.fr/event/propositions-de-septembre
LOCATION:1 rue de la fabrique 44880 Sautron\, 1rue de la Vallée\, SAUTRON\, 44880\, France
CATEGORIES:Cercle de femmes,Evènements Yoga,Méditation
ORGANIZER;CN="Vita'Yoga":MAILTO:assovitayoga@gmail.com
END:VEVENT
END:VCALENDAR